BEGIN:VCALENDAR
VERSION:2.0
PRODID:-//eventon.com NONSGML v1.0//EN
BEGIN:VEVENT
UID:69ecbcc59a21b
DTSTAMP:20260425T150821
DTSTART:20260420T070000Z
DTEND:20260422T140000Z
LOCATION:Physiozentrum für Weiterbildung Wien Mariannengasse 14/TOP 1+2
SUMMARY:BM Balance Grundkurs - Beckenintegration – funktionell und strukturell
DESCRIPTION: Trainer/Dozent: Markus Martin+Tina Gossak Kursgebühr: € 890\, 00 (inkl. aller Skripte und Zusatzleistungen) Dauer: Tag 1+2: 09.00h–18.00h  |  Tag 3: 09.00h–16.00h - 28 UE Inhalt Grundkurs Problemfeld: Belastungsinkontinenz\,  überaktive Blase und weitere Formen Beckenboden in Urologie\,  Gynäkologie\,  Proktologie\,  Orthopädie und Innere Zustand nach uro- und gynäkologischen Operationen Senkungsbeschwerden Der Beckenboden des[..]
END:VEVENT
END:VCALENDAR